{"text_format":"3","workbook":"xlsx","n_sheets":3,"sheets":["Sheet1","Sheet2","Sheet3"],"not_rendered":{"external_links":3},"read":"whole","date_system":"1900"}

{"sheet":"Sheet1","index":0,"n_rows":25,"n_cols":6,"rows_kept":25,"merged":[[0,0,0,7]]}
["    2016-2017学年度上学期九月份班级文化建设检查统计表"]
["七年级","平均分","八年级","平均分","九年级","平均分"]
[1,{"$f":"AVERAGE([1]Sheet1!B14:I14)","v":{"v":55.333333333333336,"d":"55.33"}},1,{"v":58.5,"d":"58.50"},1,{"$f":"AVERAGE([3]Sheet1!B22:J22)","v":{"v":56.42857142857143,"d":"56.43"}}]
[2,{"$f":"AVERAGE([1]Sheet1!B5:I5)","v":{"v":57.666666666666664,"d":"57.67"}},2,{"$f":"AVERAGE([2]Sheet1!B24:I24)","v":{"v":49.666666666666664,"d":"49.67"}},2,{"$f":"AVERAGE([3]Sheet1!B5:J5)","v":{"v":58.857142857142854,"d":"58.86"}}]
[3,{"$f":"AVERAGE([1]Sheet1!B13:I13)","v":{"v":55.666666666666664,"d":"55.67"}},3,{"$f":"AVERAGE([2]Sheet1!B17:I17)","v":{"v":56.666666666666664,"d":"56.67"}},3,{"$f":"AVERAGE([3]Sheet1!B10:J10)","v":{"v":58.142857142857146,"d":"58.14"}}]
[4,{"$f":"AVERAGE([1]Sheet1!B17:I17)","v":{"v":53.5,"d":"53.50"}},4,{"$f":"AVERAGE([2]Sheet1!B11:I11)","v":{"v":57.666666666666664,"d":"57.67"}},4,{"$f":"AVERAGE([3]Sheet1!B8:J8)","v":{"v":58.42857142857143,"d":"58.43"}}]
[5,{"$f":"AVERAGE([1]Sheet1!B8:I8)","v":{"v":56.333333333333336,"d":"56.33"}},5,{"$f":"AVERAGE([2]Sheet1!B18:I18)","v":{"v":56.5,"d":"56.50"}},5,{"$f":"AVERAGE([3]Sheet1!B4:J4)","v":{"v":59,"d":"59.00"}}]
[6,{"$f":"AVERAGE([1]Sheet1!B6:I6)","v":{"v":57.666666666666664,"d":"57.67"}},6,{"$f":"AVERAGE([2]Sheet1!B19:I19)","v":{"v":55.5,"d":"55.50"}},6,{"$f":"AVERAGE([3]Sheet1!B3:J3)","v":{"v":59.42857142857143,"d":"59.43"}}]
[7,{"$f":"AVERAGE([1]Sheet1!B16:I16)","v":{"v":54.5,"d":"54.50"}},7,{"$f":"AVERAGE([2]Sheet1!B14:I14)","v":{"v":57,"d":"57.00"}},7,{"$f":"AVERAGE([3]Sheet1!B11:J11)","v":{"v":58.142857142857146,"d":"58.14"}}]
[8,{"$f":"AVERAGE([1]Sheet1!B19:I19)","v":{"v":53.166666666666664,"d":"53.17"}},8,{"$f":"AVERAGE([2]Sheet1!B7:I7)","v":{"v":58.333333333333336,"d":"58.33"}},8,{"$f":"AVERAGE([3]Sheet1!B12:J12)","v":{"v":58,"d":"58.00"}}]
[9,{"$f":"AVERAGE([1]Sheet1!B21:I21)","v":{"v":52.833333333333336,"d":"52.83"}},9,{"$f":"AVERAGE([2]Sheet1!B20:I20)","v":{"v":55.166666666666664,"d":"55.17"}},9,{"$f":"AVERAGE([3]Sheet1!B24:J24)","v":{"v":56,"d":"56.00"}}]
[10,{"$f":"AVERAGE([1]Sheet1!B9:I9)","v":{"v":56.166666666666664,"d":"56.17"}},10,{"$f":"AVERAGE([2]Sheet1!B8:I8)","v":{"v":58.333333333333336,"d":"58.33"}},10,{"$f":"AVERAGE([3]Sheet1!B13:J13)","v":{"v":57.857142857142854,"d":"57.86"}}]
[11,{"$f":"AVERAGE([1]Sheet1!B23:I23)","v":{"v":52.166666666666664,"d":"52.17"}},11,{"$f":"AVERAGE([2]Sheet1!B22:I22)","v":{"v":55,"d":"55.00"}},11,{"$f":"AVERAGE([3]Sheet1!B21:J21)","v":{"v":56.57142857142857,"d":"56.57"}}]
[12,{"$f":"AVERAGE([1]Sheet1!B12:I12)","v":{"v":55.833333333333336,"d":"55.83"}},12,{"$f":"AVERAGE([2]Sheet1!B15:I15)","v":{"v":56.833333333333336,"d":"56.83"}},12,{"$f":"AVERAGE([3]Sheet1!B16:J16)","v":{"v":57.42857142857143,"d":"57.43"}}]
[13,{"$f":"AVERAGE([1]Sheet1!B22:I22)","v":{"v":52.666666666666664,"d":"52.67"}},13,{"$f":"AVERAGE([2]Sheet1!B12:I12)","v":{"v":57.666666666666664,"d":"57.67"}},13,{"$f":"AVERAGE([3]Sheet1!B7:J7)","v":{"v":58.57142857142857,"d":"58.57"}}]
[14,{"$f":"AVERAGE([1]Sheet1!B10:I10)","v":{"v":56.166666666666664,"d":"56.17"}},14,{"$f":"AVERAGE([2]Sheet1!B21:I21)","v":{"v":55.166666666666664,"d":"55.17"}},14,{"$f":"AVERAGE([3]Sheet1!B25:J25)","v":{"v":55.57142857142857,"d":"55.57"}}]
[15,{"$f":"AVERAGE([1]Sheet1!B24:I24)","v":{"v":50.833333333333336,"d":"50.83"}},15,{"$f":"AVERAGE([2]Sheet1!B9:I9)","v":{"v":58.166666666666664,"d":"58.17"}},15,{"$f":"AVERAGE([3]Sheet1!B23:J23)","v":{"v":56.285714285714285,"d":"56.29"}}]
[16,{"$f":"AVERAGE([1]Sheet1!B4:I4)","v":{"v":58.333333333333336,"d":"58.33"}},16,{"$f":"AVERAGE([2]Sheet1!B3:I3)","v":{"v":58.833333333333336,"d":"58.83"}},16,{"$f":"AVERAGE([3]Sheet1!B9:J9)","v":{"v":58.42857142857143,"d":"58.43"}}]
[17,{"$f":"AVERAGE([1]Sheet1!B3:I3)","v":{"v":59.166666666666664,"d":"59.17"}},17,{"$f":"AVERAGE([2]Sheet1!B23:I23)","v":{"v":51.666666666666664,"d":"51.67"}},17,{"$f":"AVERAGE([3]Sheet1!B6:J6)","v":{"v":58.857142857142854,"d":"58.86"}}]
[18,{"$f":"AVERAGE([1]Sheet1!B15:I15)","v":{"v":54.57142857142857,"d":"54.57"}},18,{"$f":"AVERAGE([2]Sheet1!B16:I16)","v":{"v":56.833333333333336,"d":"56.83"}},18,{"$f":"AVERAGE([3]Sheet1!B19:J19)","v":{"v":56.714285714285715,"d":"56.71"}}]
[19,{"$f":"AVERAGE([1]Sheet1!B7:I7)","v":{"v":57,"d":"57.00"}},19,{"$f":"AVERAGE([2]Sheet1!B6:I6)","v":{"v":58.5,"d":"58.50"}},19,{"$f":"AVERAGE([3]Sheet1!B18:J18)","v":{"v":57,"d":"57.00"}}]
[20,{"$f":"AVERAGE([1]Sheet1!B11:I11)","v":{"v":56.166666666666664,"d":"56.17"}},20,{"$f":"AVERAGE([2]Sheet1!B10:I10)","v":{"v":57.833333333333336,"d":"57.83"}},20,{"$f":"AVERAGE([3]Sheet1!B15:J15)","v":{"v":57.714285714285715,"d":"57.71"}}]
[21,{"$f":"AVERAGE([1]Sheet1!B20:I20)","v":{"v":53,"d":"53.00"}},21,{"$f":"AVERAGE([2]Sheet1!B13:I13)","v":{"v":57.333333333333336,"d":"57.33"}},21,{"$f":"AVERAGE([3]Sheet1!B14:J14)","v":{"v":57.857142857142854,"d":"57.86"}}]
[22,{"$f":"AVERAGE([1]Sheet1!B18:I18)","v":{"v":53.5,"d":"53.50"}},22,{"$f":"AVERAGE([2]Sheet1!B4:I4)","v":{"v":58.833333333333336,"d":"58.83"}},22,{"$f":"AVERAGE([3]Sheet1!B20:J20)","v":{"v":56.714285714285715,"d":"56.71"}}]
[{"$nulls":4},23,{"$f":"AVERAGE([3]Sheet1!B17:J17)","v":{"v":57.285714285714285,"d":"57.29"}}]

{"sheet":"Sheet2","index":1,"n_rows":0,"n_cols":0,"rows_kept":0}

{"sheet":"Sheet3","index":2,"n_rows":0,"n_cols":0,"rows_kept":0}